BEGIN:VCALENDAR
VERSION:2.0
PRODID:-//Tierra Del Mar Community Association - ECPv6.15.20//NONSGML v1.0//EN
CALSCALE:GREGORIAN
METHOD:PUBLISH
X-ORIGINAL-URL:https://tdmca.org
X-WR-CALDESC:Events for Tierra Del Mar Community Association
REFRESH-INTERVAL;VALUE=DURATION:PT1H
X-Robots-Tag:noindex
X-PUBLISHED-TTL:PT1H
BEGIN:VTIMEZONE
TZID:America/Los_Angeles
BEGIN:DAYLIGHT
TZOFFSETFROM:-0800
TZOFFSETTO:-0700
TZNAME:PDT
DTSTART:20230312T100000
END:DAYLIGHT
BEGIN:STANDARD
TZOFFSETFROM:-0700
TZOFFSETTO:-0800
TZNAME:PST
DTSTART:20231105T090000
END:STANDARD
BEGIN:DAYLIGHT
TZOFFSETFROM:-0800
TZOFFSETTO:-0700
TZNAME:PDT
DTSTART:20240310T100000
END:DAYLIGHT
BEGIN:STANDARD
TZOFFSETFROM:-0700
TZOFFSETTO:-0800
TZNAME:PST
DTSTART:20241103T090000
END:STANDARD
BEGIN:DAYLIGHT
TZOFFSETFROM:-0800
TZOFFSETTO:-0700
TZNAME:PDT
DTSTART:20250309T100000
END:DAYLIGHT
BEGIN:STANDARD
TZOFFSETFROM:-0700
TZOFFSETTO:-0800
TZNAME:PST
DTSTART:20251102T090000
END:STANDARD
END:VTIMEZONE
BEGIN:VEVENT
DTSTART;TZID=America/Los_Angeles:20240914T130000
DTEND;TZID=America/Los_Angeles:20240914T141500
DTSTAMP:20260424T155426
CREATED:20240813T014011Z
LAST-MODIFIED:20240902T023733Z
UID:864-1726318800-1726323300@tdmca.org
SUMMARY:TDM Community Meeting - Sept 14
DESCRIPTION:Our annual Labor Day Community Meeting has been rescheduled to Saturday\, September 14 at 1:00pm. Following the regular meeting\, there will be a STR meeting with Tillamook County. \nWe hope to see you there! \nSincerely\, \nTIERRA DEL MAR COMMUNITY ASSOCIATION
URL:https://tdmca.org/event/tdm-community-meeting-rescheduled-labor-day-meeting/
CATEGORIES:Meetings
END:VEVENT
BEGIN:VEVENT
DTSTART;TZID=America/Los_Angeles:20240914T141500
DTEND;TZID=America/Los_Angeles:20240914T160000
DTSTAMP:20260424T155426
CREATED:20240902T024128Z
LAST-MODIFIED:20240902T025248Z
UID:872-1726323300-1726329600@tdmca.org
SUMMARY:Short-Term Vacation Rental (STR) Community Discussion
DESCRIPTION:Following our regular meeting\, we invite TDM neighbors to a county-led conversation concerning short-term vacation rentals (STRS) in our community. The STR meeting will begin at approximately 2:15–2:30pm. Refreshments will be served.
URL:https://tdmca.org/event/872/
CATEGORIES:Meetings
END:VEVENT
END:VCALENDAR