BEGIN:VCALENDAR
VERSION:2.0
PRODID:-//Tierra Del Mar Community Association - ECPv6.15.20//NONSGML v1.0//EN
CALSCALE:GREGORIAN
METHOD:PUBLISH
X-WR-CALNAME:Tierra Del Mar Community Association
X-ORIGINAL-URL:https://tdmca.org
X-WR-CALDESC:Events for Tierra Del Mar Community Association
REFRESH-INTERVAL;VALUE=DURATION:PT1H
X-Robots-Tag:noindex
X-PUBLISHED-TTL:PT1H
BEGIN:VTIMEZONE
TZID:America/Los_Angeles
BEGIN:DAYLIGHT
TZOFFSETFROM:-0800
TZOFFSETTO:-0700
TZNAME:PDT
DTSTART:20200308T100000
END:DAYLIGHT
BEGIN:STANDARD
TZOFFSETFROM:-0700
TZOFFSETTO:-0800
TZNAME:PST
DTSTART:20201101T090000
END:STANDARD
BEGIN:DAYLIGHT
TZOFFSETFROM:-0800
TZOFFSETTO:-0700
TZNAME:PDT
DTSTART:20210314T100000
END:DAYLIGHT
BEGIN:STANDARD
TZOFFSETFROM:-0700
TZOFFSETTO:-0800
TZNAME:PST
DTSTART:20211107T090000
END:STANDARD
BEGIN:DAYLIGHT
TZOFFSETFROM:-0800
TZOFFSETTO:-0700
TZNAME:PDT
DTSTART:20220313T100000
END:DAYLIGHT
BEGIN:STANDARD
TZOFFSETFROM:-0700
TZOFFSETTO:-0800
TZNAME:PST
DTSTART:20221106T090000
END:STANDARD
BEGIN:DAYLIGHT
TZOFFSETFROM:-0800
TZOFFSETTO:-0700
TZNAME:PDT
DTSTART:20230312T100000
END:DAYLIGHT
BEGIN:STANDARD
TZOFFSETFROM:-0700
TZOFFSETTO:-0800
TZNAME:PST
DTSTART:20231105T090000
END:STANDARD
END:VTIMEZONE
BEGIN:VEVENT
DTSTART;TZID=America/Los_Angeles:20220425T083000
DTEND;TZID=America/Los_Angeles:20220425T120000
DTSTAMP:20260423T155826
CREATED:20220410T211219Z
LAST-MODIFIED:20220411T004850Z
UID:367-1650875400-1650888000@tdmca.org
SUMMARY:New Public Hearing for TDM Campground
DESCRIPTION:A new public hearing for the appeal of the Planning Commission decision to approve a new 19-site recreational campground in Tierra Del Mar is scheduled for Monday\, April 25\, 2022 at 8:30 a.m. The new hearing will held with the Tillamook County Board of Commissioners \nPublic comments may also be emailed to ltone@co.tillamook.or.us.  Below is the information to participate in the virtual public hearing. \nJoin Public Hearing Via Computer\nGot to website: https://www.co.tillsamook.or.us/commdev \nJoin Public Hearing Via Phone\nPlease call 971-254-3149. Conference ID: 887 242 77#.   \nWritten Comments\nTillamook County Department of Community Development\n1510 – B  Third Street\nTillamook\, OR  97141
URL:https://tdmca.org/event/new-public-hearing-for-tdm-campground/
CATEGORIES:Events
END:VEVENT
BEGIN:VEVENT
DTSTART;TZID=America/Los_Angeles:20220406T160000
DTEND;TZID=America/Los_Angeles:20220406T170000
DTSTAMP:20260423T155826
CREATED:20211129T022845Z
LAST-MODIFIED:20220411T004904Z
UID:264-1649260800-1649264400@tdmca.org
SUMMARY:TDMCA Meeting
DESCRIPTION:Community Hall\, 5895 Bilyeu Ave
URL:https://tdmca.org/event/tdmca-meeting/
LOCATION:TDMCA Community Hall\, 5895 Bilyeu Ave\, Tierra Del Mar
CATEGORIES:Events,Meetings
END:VEVENT
BEGIN:VEVENT
DTSTART;TZID=America/Los_Angeles:20220227T130000
DTEND;TZID=America/Los_Angeles:20220227T130000
DTSTAMP:20260423T155826
CREATED:20220202T045550Z
LAST-MODIFIED:20220228T050804Z
UID:342-1645966800-1645966800@tdmca.org
SUMMARY:February 2022 TDMCA Community Meeting
DESCRIPTION:TDMCA Community meeting via Zoom Saturday\, Feb 19\, 2022 at 1:00 p.m. This is our first virtual community meeting. Please email tierradelmarcommunity@gmail for meeting link and call information. Meeting is for TDMCA members only.
URL:https://tdmca.org/event/tdmca-community-meeting/
CATEGORIES:Events,Meetings
END:VEVENT
BEGIN:VEVENT
DTSTART;TZID=America/Los_Angeles:20220224T183000
DTEND;TZID=America/Los_Angeles:20220224T193000
DTSTAMP:20260423T155826
CREATED:20220211T045912Z
LAST-MODIFIED:20220228T050756Z
UID:344-1645727400-1645731000@tdmca.org
SUMMARY:Second Public Hearing for New Campground Proposed for Tierra Del Mar
DESCRIPTION:Second Public Hearing for new campground proposed for Tierra Del Mar. Thursday\, Feb 24\, 2022 at 6:30 p.m. \nMeeting information and application can be found here. Join the public hearing virtually by clicking here. \nJoin the public hearing by telephone: \nPlease call 971-254-3149 \nConference ID: 887 242 77#
URL:https://tdmca.org/event/second-public-hearing-for-new-campground-proposed-for-tierra-del-mar/
CATEGORIES:Events,Meetings
END:VEVENT
BEGIN:VEVENT
DTSTART;VALUE=DATE:20211125
DTEND;VALUE=DATE:20211126
DTSTAMP:20260423T155826
CREATED:20211026T181525Z
LAST-MODIFIED:20211026T181525Z
UID:156-1637798400-1637884799@tdmca.org
SUMMARY:Thanksgiving
DESCRIPTION:The fourth Thursday of November.
URL:https://tdmca.org/event/thanksgiving/
CATEGORIES:Events
END:VEVENT
BEGIN:VEVENT
DTSTART;VALUE=DATE:20211111
DTEND;VALUE=DATE:20211112
DTSTAMP:20260423T155826
CREATED:20211026T181619Z
LAST-MODIFIED:20211026T181619Z
UID:158-1636588800-1636675199@tdmca.org
SUMMARY:Veterans Day
DESCRIPTION:Veterans Day is a federal holiday in the United States observed annually on November 11\, for honoring military veterans\, who are people who have served in the United States Armed Forces.
URL:https://tdmca.org/event/veterans-day/
CATEGORIES:Events
END:VEVENT
BEGIN:VEVENT
DTSTART;VALUE=DATE:20211031
DTEND;VALUE=DATE:20211101
DTSTAMP:20260423T155826
CREATED:20211026T013519Z
LAST-MODIFIED:20211026T013519Z
UID:66-1635638400-1635724799@tdmca.org
SUMMARY:Halloween
DESCRIPTION:Be spooky and safe.
URL:https://tdmca.org/event/halloween/
CATEGORIES:Events
END:VEVENT
BEGIN:VEVENT
DTSTART;TZID=America/Los_Angeles:20211029T080000
DTEND;TZID=America/Los_Angeles:20211029T170000
DTSTAMP:20260423T155826
CREATED:20211026T015457Z
LAST-MODIFIED:20211026T015457Z
UID:77-1635494400-1635526800@tdmca.org
SUMMARY:October Meeting
DESCRIPTION:Testing\, one\, two\, three
URL:https://tdmca.org/event/october-meeting/
CATEGORIES:Meetings
END:VEVENT
BEGIN:VEVENT
DTSTART;TZID=America/Los_Angeles:20210904T160000
DTEND;TZID=America/Los_Angeles:20210904T170000
DTSTAMP:20260423T155826
CREATED:20211129T022359Z
LAST-MODIFIED:20220228T050426Z
UID:261-1630771200-1630774800@tdmca.org
SUMMARY:TDMCA Meeting
DESCRIPTION:Sep 4\, 2021 \nCommunity Hall \n5895 Bilyeu Ave
URL:https://tdmca.org/event/tdmca-meeting-642021/
LOCATION:TDMCA Community Hall\, 5895 Bilyeu Ave\, Tierra Del Mar
CATEGORIES:Meetings
END:VEVENT
END:VCALENDAR