BEGIN:VCALENDAR
VERSION:2.0
PRODID:-//Tierra Del Mar Community Association - ECPv6.15.20//NONSGML v1.0//EN
CALSCALE:GREGORIAN
METHOD:PUBLISH
X-WR-CALNAME:Tierra Del Mar Community Association
X-ORIGINAL-URL:https://tdmca.org
X-WR-CALDESC:Events for Tierra Del Mar Community Association
REFRESH-INTERVAL;VALUE=DURATION:PT1H
X-Robots-Tag:noindex
X-PUBLISHED-TTL:PT1H
BEGIN:VTIMEZONE
TZID:America/Los_Angeles
BEGIN:DAYLIGHT
TZOFFSETFROM:-0800
TZOFFSETTO:-0700
TZNAME:PDT
DTSTART:20200308T100000
END:DAYLIGHT
BEGIN:STANDARD
TZOFFSETFROM:-0700
TZOFFSETTO:-0800
TZNAME:PST
DTSTART:20201101T090000
END:STANDARD
BEGIN:DAYLIGHT
TZOFFSETFROM:-0800
TZOFFSETTO:-0700
TZNAME:PDT
DTSTART:20210314T100000
END:DAYLIGHT
BEGIN:STANDARD
TZOFFSETFROM:-0700
TZOFFSETTO:-0800
TZNAME:PST
DTSTART:20211107T090000
END:STANDARD
BEGIN:DAYLIGHT
TZOFFSETFROM:-0800
TZOFFSETTO:-0700
TZNAME:PDT
DTSTART:20220313T100000
END:DAYLIGHT
BEGIN:STANDARD
TZOFFSETFROM:-0700
TZOFFSETTO:-0800
TZNAME:PST
DTSTART:20221106T090000
END:STANDARD
BEGIN:DAYLIGHT
TZOFFSETFROM:-0800
TZOFFSETTO:-0700
TZNAME:PDT
DTSTART:20230312T100000
END:DAYLIGHT
BEGIN:STANDARD
TZOFFSETFROM:-0700
TZOFFSETTO:-0800
TZNAME:PST
DTSTART:20231105T090000
END:STANDARD
BEGIN:DAYLIGHT
TZOFFSETFROM:-0800
TZOFFSETTO:-0700
TZNAME:PDT
DTSTART:20240310T100000
END:DAYLIGHT
BEGIN:STANDARD
TZOFFSETFROM:-0700
TZOFFSETTO:-0800
TZNAME:PST
DTSTART:20241103T090000
END:STANDARD
BEGIN:DAYLIGHT
TZOFFSETFROM:-0800
TZOFFSETTO:-0700
TZNAME:PDT
DTSTART:20250309T100000
END:DAYLIGHT
BEGIN:STANDARD
TZOFFSETFROM:-0700
TZOFFSETTO:-0800
TZNAME:PST
DTSTART:20251102T090000
END:STANDARD
BEGIN:DAYLIGHT
TZOFFSETFROM:-0800
TZOFFSETTO:-0700
TZNAME:PDT
DTSTART:20260308T100000
END:DAYLIGHT
BEGIN:STANDARD
TZOFFSETFROM:-0700
TZOFFSETTO:-0800
TZNAME:PST
DTSTART:20261101T090000
END:STANDARD
END:VTIMEZONE
BEGIN:VEVENT
DTSTART;TZID=America/Los_Angeles:20250215T130000
DTEND;TZID=America/Los_Angeles:20250215T143000
DTSTAMP:20260423T141628
CREATED:20250112T192450Z
LAST-MODIFIED:20250215T020420Z
UID:926-1739624400-1739629800@tdmca.org
SUMMARY:UPDATE: President's Day Weekend Community Meeting
DESCRIPTION:Due to inclement weather and current unsafe/icy road conditions in many surrounding areas\, our community meeting scheduled for Saturday\, Feb 15 has been POSTPONED. We will follow up with a new meeting date for March. \nFor any neighbors who have come out early or are already here in TDM\, we are opening up the community hall on Saturday from 1-2:30pm and invite you to get together and enjoy some fresh coffee & cookies and join us for some shared community conversation. We can still informally discuss some of our agenda items\, but we will not be conducting any official Association business. \nTIERRA DEL MAR COMMUNITY ASSOCIATION \nOur community meetings are open to TDMCA members only\, thank you.
URL:https://tdmca.org/event/presidents-day-weekend-community-meeting/
LOCATION:TDMCA Community Hall\, 5895 Bilyeu Ave\, Tierra Del Mar
CATEGORIES:Meetings
END:VEVENT
BEGIN:VEVENT
DTSTART;TZID=America/Los_Angeles:20241115T150000
DTEND;TZID=America/Los_Angeles:20241115T163000
DTSTAMP:20260423T141628
CREATED:20241106T053754Z
LAST-MODIFIED:20241111T230116Z
UID:902-1731682800-1731688200@tdmca.org
SUMMARY:Sitka Sedge/Beltz Dike Townhall Meeting - Kiawanda Community Center\, Pacific City
DESCRIPTION:Townhall meeting hosted by Oregon State Parks (OPRD) and Tillamook Estuaries Partnership (TEP) to share project updates for the Beltz Dike/Sitka Sedge setback dike project to resume stakeholder outreach & community feedback. Meeting will be held in person at the Kiawanda Community Center in Pacific City.  Virtual options as shown below: \nJOIN MEETING VIA ZOOM \nPlease click the link below to join the webinar:\nhttps://us06web.zoom.us/j/84948686432\nOr One tap mobile :+16699006833\, 84948686432# US (San Jose)\n+17193594580\,\,84948686432# US \nWebinar ID: 849 4868 6432 \nOPRD Sitka Sedge/Beltz Dike project webpage for updates & information \nhttps://www.oregon.gov/oprd/prp/pages/pla-sitka-sedge-hydro.aspx \nMeeting agenda: \nSummarize the history of the project to date \nPresent the status of 30% design for the setback dike in layman’s terms \nHear from Tillamook County Public Works on Sand Lake Road stream crossings work they have begun \nLay out proposed next steps and expected timeline \nRequest questions and comments from stakeholders
URL:https://tdmca.org/event/sitka-sedge-beltz-dike-townhall-meeting-kiawanda-community-center-pacific-city/
LOCATION:kiawanda community center pacific city\, 34600 Cape Kiwanda Drive\, Pacific City\, OR\, 97135\, United States
CATEGORIES:Meetings
END:VEVENT
BEGIN:VEVENT
DTSTART;TZID=America/Los_Angeles:20241017T101700
DTEND;TZID=America/Los_Angeles:20241017T111700
DTSTAMP:20260423T141628
CREATED:20241010T024226Z
LAST-MODIFIED:20241014T015555Z
UID:886-1729160220-1729163820@tdmca.org
SUMMARY:The Great ShakeOut TDM Earthquake Drill
DESCRIPTION:The Great ShakeOut earthquake drill is scheduled for October 17 at 10:17 a.m. This drill is a critical opportunity for all of us to practice our earthquake preparedness\, especially in light of the potential risks we face from the Cascadia Subduction Zone.\nWhile it’s important to know where your nearest emergency assembly site is\, this year we encourage everyone to take the extra step and actually go to your nearest assembly site as part of the drill. \nQR Code Flyer 2024 \n  \n 
URL:https://tdmca.org/event/the-great-shakeout-earthquake-drill/
CATEGORIES:Events
END:VEVENT
BEGIN:VEVENT
DTSTART;TZID=America/Los_Angeles:20240914T141500
DTEND;TZID=America/Los_Angeles:20240914T160000
DTSTAMP:20260423T141628
CREATED:20240902T024128Z
LAST-MODIFIED:20240902T025248Z
UID:872-1726323300-1726329600@tdmca.org
SUMMARY:Short-Term Vacation Rental (STR) Community Discussion
DESCRIPTION:Following our regular meeting\, we invite TDM neighbors to a county-led conversation concerning short-term vacation rentals (STRS) in our community. The STR meeting will begin at approximately 2:15–2:30pm. Refreshments will be served.
URL:https://tdmca.org/event/872/
CATEGORIES:Meetings
END:VEVENT
BEGIN:VEVENT
DTSTART;TZID=America/Los_Angeles:20240914T130000
DTEND;TZID=America/Los_Angeles:20240914T141500
DTSTAMP:20260423T141628
CREATED:20240813T014011Z
LAST-MODIFIED:20240902T023733Z
UID:864-1726318800-1726323300@tdmca.org
SUMMARY:TDM Community Meeting - Sept 14
DESCRIPTION:Our annual Labor Day Community Meeting has been rescheduled to Saturday\, September 14 at 1:00pm. Following the regular meeting\, there will be a STR meeting with Tillamook County. \nWe hope to see you there! \nSincerely\, \nTIERRA DEL MAR COMMUNITY ASSOCIATION
URL:https://tdmca.org/event/tdm-community-meeting-rescheduled-labor-day-meeting/
CATEGORIES:Meetings
END:VEVENT
BEGIN:VEVENT
DTSTART;TZID=America/Los_Angeles:20240831T130000
DTEND;TZID=America/Los_Angeles:20240831T143000
DTSTAMP:20260423T141628
CREATED:20240611T043347Z
LAST-MODIFIED:20240813T014337Z
UID:831-1725109200-1725114600@tdmca.org
SUMMARY:RESCHEDULED: TDMCA Labor Day Community Meeting
DESCRIPTION:Our annual Labor Day Community Meeting has been rescheduled to Saturday\, September 14 at 1:00pm. Following the regular meeting\, there will be a STR meeting with Tillamook County. \nWe hope to see you there! \nSincerely\, \nTIERRA DEL MAR COMMUNITY ASSOCIATION
URL:https://tdmca.org/event/tdmca-labor-day-community-meeting/
CATEGORIES:Meetings
END:VEVENT
BEGIN:VEVENT
DTSTART;TZID=America/Los_Angeles:20240803T100000
DTEND;TZID=America/Los_Angeles:20240803T160000
DTSTAMP:20260423T141628
CREATED:20231211T045416Z
LAST-MODIFIED:20240727T235340Z
UID:781-1722679200-1722700800@tdmca.org
SUMMARY:Annual Community Art Fair
DESCRIPTION: Community Art Fair  \nSaturday\, August 3rd\, 2024 \n  10-4pm \nTierra Del Mar Community Hall \n5895 Bilyeu Avenue\, Tierra Del Mar\, Oregon 97112 \nOur art fair is dedicated to TDM and other local artisans\, photographers\, and crafters to showcase and sell their creations. You can also join us at the TDM “Creation Station” where you and the kids can paint mini rabbit figurines along with beach rocks & sand dollars\, you can also build DIY driftwood mobiles! \n\n Everyone is welcome and we hope to see you there! More photos below.\n \nWrackline Design\n  \nTeresa Mahannah\nDana Hulbert\nTeresa Mahannah\nKen Pickett\nEd Ruttledge\nSanctuary Studio\nIsabel Gilda\nSue Adams
URL:https://tdmca.org/event/annual-community-art-fair/
CATEGORIES:Events
END:VEVENT
BEGIN:VEVENT
DTSTART;TZID=America/Los_Angeles:20240705T100000
DTEND;TZID=America/Los_Angeles:20240705T120000
DTSTAMP:20260423T141628
CREATED:20240702T041010Z
LAST-MODIFIED:20240702T041010Z
UID:847-1720173600-1720180800@tdmca.org
SUMMARY:TDM Beach Clean-Up!
DESCRIPTION:Please join your neighbors and friends at the south end Tierra Del Mar beach access point for the annual Surfrider beach clean up event on Friday\, July 5 from 10:00 am–12:00pm. Help us clean up the firework debris & trash left behind on our beach from the July 4th holiday fireworks. \nFireworks are prohibited on all Oregon beaches\, including Tierra Del Mar\n  \n \n 
URL:https://tdmca.org/event/tdm-beach-clean-up/
CATEGORIES:Events
END:VEVENT
BEGIN:VEVENT
DTSTART;TZID=America/Los_Angeles:20240525T143000
DTEND;TZID=America/Los_Angeles:20240525T153000
DTSTAMP:20260423T141628
CREATED:20240513T034447Z
LAST-MODIFIED:20240513T063733Z
UID:810-1716647400-1716651000@tdmca.org
SUMMARY:Short-Term Rentals Community Discussion
DESCRIPTION:Community discussion concerning short-term vacation rentals (STRs) in Tierra Del Mar. TDMCA community members are invited to find out more about new ordinance amendments for parking\, occupancy\, program updates addressing community livability concerns\, new complaint hot-line\, and caps (maximum limit) on the number of STRs in TDM. Director of Community Development for Tillamook County will lead the discussion. This is an important meeting and we hope you will join us in this community conversation. Refreshments will be served.
URL:https://tdmca.org/event/short-term-rentals-community-discussion/
CATEGORIES:Meetings
END:VEVENT
BEGIN:VEVENT
DTSTART;TZID=America/Los_Angeles:20240217T130000
DTEND;TZID=America/Los_Angeles:20240217T143000
DTSTAMP:20260423T141628
CREATED:20231211T043759Z
LAST-MODIFIED:20231211T044602Z
UID:779-1708174800-1708180200@tdmca.org
SUMMARY:President's Day Community Meeting
DESCRIPTION:Annual President’s Day Community Meeting at TDM Hall\, Feb 17\, 2024 at 1:00 p.m. 5895 Bilyeu Avenue\, Tierra Del Mar.
URL:https://tdmca.org/event/presidents-day-community-meeting-2/
CATEGORIES:Meetings
END:VEVENT
BEGIN:VEVENT
DTSTART;TZID=America/Los_Angeles:20231202T130000
DTEND;TZID=America/Los_Angeles:20231202T143000
DTSTAMP:20260423T141628
CREATED:20231112T024143Z
LAST-MODIFIED:20231112T024143Z
UID:767-1701522000-1701527400@tdmca.org
SUMMARY:Community Meeting
DESCRIPTION:Our annual Thanksgiving weekend meeting has been rescheduled to Saturday\, December 2\, 2023. Please join us at the TDM Community Hall on Bilyeu Avenue\, meeting starts at 1:00 p.m.
URL:https://tdmca.org/event/community-meeting/
CATEGORIES:Meetings
END:VEVENT
BEGIN:VEVENT
DTSTART;TZID=America/Los_Angeles:20230902T130000
DTEND;TZID=America/Los_Angeles:20230902T143000
DTSTAMP:20260423T141628
CREATED:20230814T044634Z
LAST-MODIFIED:20230814T044634Z
UID:764-1693659600-1693665000@tdmca.org
SUMMARY:Labor Day Community Meeting
DESCRIPTION:Please join us for our annual Labor Day community meeting held at the TDM hall on Bilyeu Avenue starting at 1:00 p.m.
URL:https://tdmca.org/event/labor-day-community-meeting/
CATEGORIES:Meetings
END:VEVENT
BEGIN:VEVENT
DTSTART;TZID=America/Los_Angeles:20230805T100000
DTEND;TZID=America/Los_Angeles:20230805T160000
DTSTAMP:20260423T141628
CREATED:20230717T032232Z
LAST-MODIFIED:20230719T011927Z
UID:722-1691229600-1691251200@tdmca.org
SUMMARY:TDM Arts Fair
DESCRIPTION:Tierra Del Mar Art Fair featuring local art\, vintage goods\, and coastal curiosities! \nPlease join us at the TDM Community Hall on Saturday\, August 5 from 10-4pm. \nCheck back for more photos!
URL:https://tdmca.org/event/arts-crafts-event/
CATEGORIES:Events
END:VEVENT
BEGIN:VEVENT
DTSTART;TZID=America/Los_Angeles:20230617T130000
DTEND;TZID=America/Los_Angeles:20230617T150000
DTSTAMP:20260423T141628
CREATED:20230617T025108Z
LAST-MODIFIED:20230617T032614Z
UID:733-1687006800-1687014000@tdmca.org
SUMMARY:June 17\, 2023 at 1:00 p.m. in Pacific City - Sitka Sedge/Beltz Dike Project Town Hall Meeting
DESCRIPTION:Join Zoom Meeting\nhttps://us02web.zoom.us/j/83489324604?pwd=Z3VRWFk4MjVJbG1hQmhwZVZXMi8yQT09\nMeeting ID: 834 8932 4604   Passcode: 018493\n\n\n\n\n\nPlease note\, this meeting is being held at the Kiawanda\nCommunity Center\, and not the TDMCA Community Hall\n\n\nThe next town hall meeting for the Sitka Sedge Tidal Wetland project\, also known as Beltz Dike\, is Saturday\, June 17th from 1:00 – 3:00 pm at the Kiawanda Community Center in Pacific City.  The Environmental Science Associates (ESA)\, State Parks & Tillamook Estuaries Partnership (TEP) presentation will focus on sharing the results of 2D hydraulic modeling and analysis of design alternatives for restoring tidal processes and fish passage to Beltz Marsh and the tributary creeks (Reneke Creek\, Beltz Creek\, and No Name Creek/East Marsh)\, while avoiding negative impacts to Tierra Del Mar and County infrastructure.   \nAt the meeting there will also be a review of the Tierra Del Mar drainage system assessment presented at the April town hall meeting describing a range of potential improvements to the drainage system aimed at alleviating or reducing flooding issues reported by TDM residents.  We hope you can join us tomorrow and to find out more about this important project and what it means for TDM. \n\n\n \n\n\n\n\n 
URL:https://tdmca.org/event/sitka-sedge-beltz-dike-project-town-hall-meeting-in-pacific-city/
END:VEVENT
BEGIN:VEVENT
DTSTART;TZID=America/Los_Angeles:20230527T130000
DTEND;TZID=America/Los_Angeles:20230527T143000
DTSTAMP:20260423T141628
CREATED:20230226T201609Z
LAST-MODIFIED:20230226T201716Z
UID:623-1685192400-1685197800@tdmca.org
SUMMARY:TDMCA Annual Community Meeting
DESCRIPTION:Join us for our annual TDMCA community meeting on Saturday\, May 27\, 2023 at 1:00p.m. at our community hall on Bilyeu Ave. Meeting agenda and more details to follow.
URL:https://tdmca.org/event/tdmca-annual-community-meeting/
CATEGORIES:Meetings
END:VEVENT
BEGIN:VEVENT
DTSTART;TZID=America/Los_Angeles:20230527T113000
DTEND;TZID=America/Los_Angeles:20230527T123000
DTSTAMP:20260423T141628
CREATED:20230226T200708Z
LAST-MODIFIED:20230226T201736Z
UID:619-1685187000-1685190600@tdmca.org
SUMMARY:Tales of Tierra Del Mar Book Signing
DESCRIPTION:In collaboration with the Tillamook County Historical Society\, TDMCA will be hosting a “Tales of Tierra Del Mar” book release and signing event on \nSaturday\, May 27\, 2023 starting at 11:30 a.m. The new book will be available for purchase and author\, Diana Sears\, will be available to sign copies. \nWe hope you can join us for this exciting event. Our regular TDMCA annual meeting will follow the book release event.
URL:https://tdmca.org/event/tales-of-tierra-del-mar-book-signing/
CATEGORIES:Events
END:VEVENT
BEGIN:VEVENT
DTSTART;TZID=America/Los_Angeles:20230422T090000
DTEND;TZID=America/Los_Angeles:20230422T160000
DTSTAMP:20260423T141628
CREATED:20230314T034826Z
LAST-MODIFIED:20230420T032950Z
UID:694-1682154000-1682179200@tdmca.org
SUMMARY:TDMCA Community Sale!
DESCRIPTION:Please join us for our TDMCA Spring Yard Sale on Saturday\, April 22! As a bonus\, April 22 is also Earth Day\, and what a great way to celebrate by reducing\, reusing and recycling items that aren’t ready for the landfill. \nTo help increase event visibility we are aligning with the Kiwanda Community Center and Netarts Community Center\, both events scheduled for that same day. There is also an estate sale happing in TDM this weekend on Sandlake Road. Check out our map to help you navigate to each event. \n 
URL:https://tdmca.org/event/tdmca-community-sale/
CATEGORIES:Events
END:VEVENT
BEGIN:VEVENT
DTSTART;TZID=America/Los_Angeles:20230415T130000
DTEND;TZID=America/Los_Angeles:20230415T143000
DTSTAMP:20260423T141628
CREATED:20230415T013831Z
LAST-MODIFIED:20230415T020021Z
UID:697-1681563600-1681569000@tdmca.org
SUMMARY:Beltz Dike/Sitka Sedge Project Meeting
DESCRIPTION:Beltz Dike/Sitka Sedge Tidal Wetlands Project Update.\nTillamook Estuaries Partnership (TEP) and State Parks are holding another meeting to share project updates for the Beltz dike relocation and restoration project. Meeting will be held at the Kiawanda Community Center in Pacific City on Saturday April 15\, 2023 at 1:00p.m. \nTopics discussed will include staffing changes\, monitoring instrumentation deployed\, funding opportunities\, timelines for next steps\, and  Q&A time. You can also join the meeting remotely and ask questions via the Zoom link below. \nhttps://us02web.zoom.us/j/89153019582?pwd=czdvanQzM1BPZFh2L0tDMVBBWkRpQT09\n  \nIf you would like to be added to the email list for this project\, please contact TEP Habitat Restoration Project Manager\, Conrad Ely: conrad@tbnep.org
URL:https://tdmca.org/event/beltz-dike-sitka-sedge-project-meeting/
CATEGORIES:Events
END:VEVENT
BEGIN:VEVENT
DTSTART;TZID=America/Los_Angeles:20230218T130000
DTEND;TZID=America/Los_Angeles:20230218T143000
DTSTAMP:20260423T141628
CREATED:20221213T045203Z
LAST-MODIFIED:20230122T210633Z
UID:560-1676725200-1676730600@tdmca.org
SUMMARY:President's Day Weekend Community Meeting
DESCRIPTION:Annual President’s Day weekend community meeting at 1:00p.m.\,Saturday\, February 18\, 2023. Meeting will be held at the TDM community hall on Bilyeu Avenue. Agenda to follow. Our meetings are open to current TDMCA members only.
URL:https://tdmca.org/event/presidents-day-community-meeting/
CATEGORIES:Events,Meetings
END:VEVENT
BEGIN:VEVENT
DTSTART;TZID=America/Los_Angeles:20221210T140000
DTEND;TZID=America/Los_Angeles:20221210T170000
DTSTAMP:20260423T141628
CREATED:20221204T035340Z
LAST-MODIFIED:20221212T005300Z
UID:552-1670680800-1670691600@tdmca.org
SUMMARY:Deck the Hall!
DESCRIPTION:Hello TDM Neighbors\, \nWe are bringing some festive cheer to our TDM community hall again this year thanks to some very generous donations of holiday lights and decorations. Please stop by and join us for some family friendly holiday festivities as we decorate and mingle on Saturday\, December 10 from 2-5p.m.
URL:https://tdmca.org/event/deck-the-hall/
CATEGORIES:Events
END:VEVENT
BEGIN:VEVENT
DTSTART;TZID=America/Los_Angeles:20221126T130000
DTEND;TZID=America/Los_Angeles:20221126T143000
DTSTAMP:20260423T141628
CREATED:20221025T023604Z
LAST-MODIFIED:20221122T043344Z
UID:529-1669467600-1669473000@tdmca.org
SUMMARY:Thanksgiving Community Meeting
DESCRIPTION:2022-11-26 MEETING AGENDA\n  \nAnnual Thanksgiving Community meeting will be held at the TDMCA community hall on Bilyeu Ave at 1:00 p.m.
URL:https://tdmca.org/event/thanksgiving-community-meeting-2/
LOCATION:TDMCA Community Hall\, 5895 Bilyeu Ave\, Tierra Del Mar
CATEGORIES:Meetings
END:VEVENT
BEGIN:VEVENT
DTSTART;TZID=America/Los_Angeles:20220903T130000
DTEND;TZID=America/Los_Angeles:20220903T140000
DTSTAMP:20260423T141628
CREATED:20220805T222749Z
LAST-MODIFIED:20220805T222903Z
UID:520-1662210000-1662213600@tdmca.org
SUMMARY:Labor Day Weekend TDM Community Meeting
DESCRIPTION:Labor Day Weekend TDM Community Meeting: Please save the date on your calendars for our next community meeting on Saturday\, September 3 at 1:00 p.m. Meeting will be held at the TDM community hall on Bilyeu Ave.
URL:https://tdmca.org/event/2022-labor-day-community-meeting/
LOCATION:TDMCA Community Hall\, 5895 Bilyeu Ave\, Tierra Del Mar
CATEGORIES:Meetings
END:VEVENT
BEGIN:VEVENT
DTSTART;TZID=America/Los_Angeles:20220805T090000
DTEND;TZID=America/Los_Angeles:20220806T160000
DTSTAMP:20260423T141628
CREATED:20211129T021429Z
LAST-MODIFIED:20220717T033205Z
UID:257-1659690000-1659801600@tdmca.org
SUMMARY:Community Sale 8/5 & 8/6/2022 - CANCELLED
DESCRIPTION:
URL:https://tdmca.org/event/tdmca-community-craft-yard-sale/
LOCATION:TDMCA Community Hall\, 5895 Bilyeu Ave\, Tierra Del Mar
CATEGORIES:Events
END:VEVENT
BEGIN:VEVENT
DTSTART;TZID=America/Los_Angeles:20220528T130000
DTEND;TZID=America/Los_Angeles:20220528T140000
DTSTAMP:20260423T141628
CREATED:20220311T015003Z
LAST-MODIFIED:20220411T005308Z
UID:405-1653742800-1653746400@tdmca.org
SUMMARY:May Community Meeting
DESCRIPTION:Our next community meeting will be on the Saturday before the Memorial Day holiday\, May 28 at 1:00 p.m.\, in-person meeting at the community hall on Bilyeu Ave in TDM.
URL:https://tdmca.org/event/may-community-meeting/
LOCATION:TDMCA Community Hall\, 5895 Bilyeu Ave\, Tierra Del Mar
CATEGORIES:Events,Meetings
END:VEVENT
BEGIN:VEVENT
DTSTART;TZID=America/Los_Angeles:20220425T083000
DTEND;TZID=America/Los_Angeles:20220425T120000
DTSTAMP:20260423T141628
CREATED:20220410T211219Z
LAST-MODIFIED:20220411T004850Z
UID:367-1650875400-1650888000@tdmca.org
SUMMARY:New Public Hearing for TDM Campground
DESCRIPTION:A new public hearing for the appeal of the Planning Commission decision to approve a new 19-site recreational campground in Tierra Del Mar is scheduled for Monday\, April 25\, 2022 at 8:30 a.m. The new hearing will held with the Tillamook County Board of Commissioners \nPublic comments may also be emailed to ltone@co.tillamook.or.us.  Below is the information to participate in the virtual public hearing. \nJoin Public Hearing Via Computer\nGot to website: https://www.co.tillsamook.or.us/commdev \nJoin Public Hearing Via Phone\nPlease call 971-254-3149. Conference ID: 887 242 77#.   \nWritten Comments\nTillamook County Department of Community Development\n1510 – B  Third Street\nTillamook\, OR  97141
URL:https://tdmca.org/event/new-public-hearing-for-tdm-campground/
CATEGORIES:Events
END:VEVENT
BEGIN:VEVENT
DTSTART;TZID=America/Los_Angeles:20220406T160000
DTEND;TZID=America/Los_Angeles:20220406T170000
DTSTAMP:20260423T141628
CREATED:20211129T022845Z
LAST-MODIFIED:20220411T004904Z
UID:264-1649260800-1649264400@tdmca.org
SUMMARY:TDMCA Meeting
DESCRIPTION:Community Hall\, 5895 Bilyeu Ave
URL:https://tdmca.org/event/tdmca-meeting/
LOCATION:TDMCA Community Hall\, 5895 Bilyeu Ave\, Tierra Del Mar
CATEGORIES:Events,Meetings
END:VEVENT
BEGIN:VEVENT
DTSTART;TZID=America/Los_Angeles:20220227T130000
DTEND;TZID=America/Los_Angeles:20220227T130000
DTSTAMP:20260423T141628
CREATED:20220202T045550Z
LAST-MODIFIED:20220228T050804Z
UID:342-1645966800-1645966800@tdmca.org
SUMMARY:February 2022 TDMCA Community Meeting
DESCRIPTION:TDMCA Community meeting via Zoom Saturday\, Feb 19\, 2022 at 1:00 p.m. This is our first virtual community meeting. Please email tierradelmarcommunity@gmail for meeting link and call information. Meeting is for TDMCA members only.
URL:https://tdmca.org/event/tdmca-community-meeting/
CATEGORIES:Events,Meetings
END:VEVENT
BEGIN:VEVENT
DTSTART;TZID=America/Los_Angeles:20220224T183000
DTEND;TZID=America/Los_Angeles:20220224T193000
DTSTAMP:20260423T141628
CREATED:20220211T045912Z
LAST-MODIFIED:20220228T050756Z
UID:344-1645727400-1645731000@tdmca.org
SUMMARY:Second Public Hearing for New Campground Proposed for Tierra Del Mar
DESCRIPTION:Second Public Hearing for new campground proposed for Tierra Del Mar. Thursday\, Feb 24\, 2022 at 6:30 p.m. \nMeeting information and application can be found here. Join the public hearing virtually by clicking here. \nJoin the public hearing by telephone: \nPlease call 971-254-3149 \nConference ID: 887 242 77#
URL:https://tdmca.org/event/second-public-hearing-for-new-campground-proposed-for-tierra-del-mar/
CATEGORIES:Events,Meetings
END:VEVENT
BEGIN:VEVENT
DTSTART;VALUE=DATE:20211125
DTEND;VALUE=DATE:20211126
DTSTAMP:20260423T141628
CREATED:20211026T181525Z
LAST-MODIFIED:20211026T181525Z
UID:156-1637798400-1637884799@tdmca.org
SUMMARY:Thanksgiving
DESCRIPTION:The fourth Thursday of November.
URL:https://tdmca.org/event/thanksgiving/
CATEGORIES:Events
END:VEVENT
BEGIN:VEVENT
DTSTART;VALUE=DATE:20211111
DTEND;VALUE=DATE:20211112
DTSTAMP:20260423T141628
CREATED:20211026T181619Z
LAST-MODIFIED:20211026T181619Z
UID:158-1636588800-1636675199@tdmca.org
SUMMARY:Veterans Day
DESCRIPTION:Veterans Day is a federal holiday in the United States observed annually on November 11\, for honoring military veterans\, who are people who have served in the United States Armed Forces.
URL:https://tdmca.org/event/veterans-day/
CATEGORIES:Events
END:VEVENT
END:VCALENDAR