BEGIN:VCALENDAR
VERSION:2.0
PRODID:-//Tierra Del Mar Community Association - ECPv6.15.20//NONSGML v1.0//EN
CALSCALE:GREGORIAN
METHOD:PUBLISH
X-ORIGINAL-URL:https://tdmca.org
X-WR-CALDESC:Events for Tierra Del Mar Community Association
REFRESH-INTERVAL;VALUE=DURATION:PT1H
X-Robots-Tag:noindex
X-PUBLISHED-TTL:PT1H
BEGIN:VTIMEZONE
TZID:America/Los_Angeles
BEGIN:DAYLIGHT
TZOFFSETFROM:-0800
TZOFFSETTO:-0700
TZNAME:PDT
DTSTART:20240310T100000
END:DAYLIGHT
BEGIN:STANDARD
TZOFFSETFROM:-0700
TZOFFSETTO:-0800
TZNAME:PST
DTSTART:20241103T090000
END:STANDARD
BEGIN:DAYLIGHT
TZOFFSETFROM:-0800
TZOFFSETTO:-0700
TZNAME:PDT
DTSTART:20250309T100000
END:DAYLIGHT
BEGIN:STANDARD
TZOFFSETFROM:-0700
TZOFFSETTO:-0800
TZNAME:PST
DTSTART:20251102T090000
END:STANDARD
BEGIN:DAYLIGHT
TZOFFSETFROM:-0800
TZOFFSETTO:-0700
TZNAME:PDT
DTSTART:20260308T100000
END:DAYLIGHT
BEGIN:STANDARD
TZOFFSETFROM:-0700
TZOFFSETTO:-0800
TZNAME:PST
DTSTART:20261101T090000
END:STANDARD
END:VTIMEZONE
BEGIN:VEVENT
DTSTART;TZID=America/Los_Angeles:20251206T130000
DTEND;TZID=America/Los_Angeles:20251206T140000
DTSTAMP:20260423T155204
CREATED:20251027T061701Z
LAST-MODIFIED:20251027T061728Z
UID:1101-1765026000-1765029600@tdmca.org
SUMMARY:TDMCA Community Meeting
DESCRIPTION:Our annual Thanksgiving weekend meeting is scheduled for the weekend after the holiday on Saturday\, December 6\, 2025\, at 1:00 p.m. at the TDM Community Hall in Tierra Del Mar. Meeting agenda will be provided ahead of time to TDCMA members.
URL:https://tdmca.org/event/tdmca-community-meeting-2/
LOCATION:TDMCA Community Hall\, 5895 Bilyeu Ave\, Tierra Del Mar
CATEGORIES:Meetings
END:VEVENT
END:VCALENDAR