BEGIN:VCALENDAR
VERSION:2.0
PRODID:-//Tierra Del Mar Community Association - ECPv6.15.20//NONSGML v1.0//EN
CALSCALE:GREGORIAN
METHOD:PUBLISH
X-WR-CALNAME:Tierra Del Mar Community Association
X-ORIGINAL-URL:https://tdmca.org
X-WR-CALDESC:Events for Tierra Del Mar Community Association
REFRESH-INTERVAL;VALUE=DURATION:PT1H
X-Robots-Tag:noindex
X-PUBLISHED-TTL:PT1H
BEGIN:VTIMEZONE
TZID:America/Los_Angeles
BEGIN:DAYLIGHT
TZOFFSETFROM:-0800
TZOFFSETTO:-0700
TZNAME:PDT
DTSTART:20240310T100000
END:DAYLIGHT
BEGIN:STANDARD
TZOFFSETFROM:-0700
TZOFFSETTO:-0800
TZNAME:PST
DTSTART:20241103T090000
END:STANDARD
BEGIN:DAYLIGHT
TZOFFSETFROM:-0800
TZOFFSETTO:-0700
TZNAME:PDT
DTSTART:20250309T100000
END:DAYLIGHT
BEGIN:STANDARD
TZOFFSETFROM:-0700
TZOFFSETTO:-0800
TZNAME:PST
DTSTART:20251102T090000
END:STANDARD
BEGIN:DAYLIGHT
TZOFFSETFROM:-0800
TZOFFSETTO:-0700
TZNAME:PDT
DTSTART:20260308T100000
END:DAYLIGHT
BEGIN:STANDARD
TZOFFSETFROM:-0700
TZOFFSETTO:-0800
TZNAME:PST
DTSTART:20261101T090000
END:STANDARD
END:VTIMEZONE
BEGIN:VEVENT
DTSTART;TZID=America/Los_Angeles:20251022T173000
DTEND;TZID=America/Los_Angeles:20251022T193000
DTSTAMP:20260423T191421
CREATED:20251021T031153Z
LAST-MODIFIED:20251021T031814Z
UID:1094-1761154200-1761161400@tdmca.org
SUMMARY:Transportation Plan Meeting for Rural Communities
DESCRIPTION:The Tillamook County Transportation Plan is being updated to find out more about transportation needs\, options\, impacts\, and challenges in our small rural communities. Tierra Del Mar has been invited to participate on the advisory committee for the transportation plan and is pleased to be a part of this project. There is an open-house meeting scheduled at the Hebo Fire Station on October 22.\n\n\nIf you can’t make the meeting in person\, please consider sharing your ideas and concerns about how we can improve walking/biking/safety within our community via the project website link under the “Share Your Feedback” button at the top of the webpage.\n\n\n\n\n\nTillamook County TSP Update – In-Person Community Event #1\nWednesday\, October 22\, 2025 | 5:30 PM – 7:30 PM\nHebo Fire Station – Community Room\n30710 Hwy 101 S\, Cloverdale\, OR 97112
URL:https://tdmca.org/event/1094/
LOCATION:hebo fire station\, 30710 Hwy 101 S\, Cloverdale\, 97112\, United States
CATEGORIES:Events
END:VEVENT
END:VCALENDAR