BEGIN:VCALENDAR
VERSION:2.0
PRODID:-//Tierra Del Mar Community Association - ECPv6.15.20//NONSGML v1.0//EN
CALSCALE:GREGORIAN
METHOD:PUBLISH
X-WR-CALNAME:Tierra Del Mar Community Association
X-ORIGINAL-URL:https://tdmca.org
X-WR-CALDESC:Events for Tierra Del Mar Community Association
REFRESH-INTERVAL;VALUE=DURATION:PT1H
X-Robots-Tag:noindex
X-PUBLISHED-TTL:PT1H
BEGIN:VTIMEZONE
TZID:America/Los_Angeles
BEGIN:DAYLIGHT
TZOFFSETFROM:-0800
TZOFFSETTO:-0700
TZNAME:PDT
DTSTART:20240310T100000
END:DAYLIGHT
BEGIN:STANDARD
TZOFFSETFROM:-0700
TZOFFSETTO:-0800
TZNAME:PST
DTSTART:20241103T090000
END:STANDARD
BEGIN:DAYLIGHT
TZOFFSETFROM:-0800
TZOFFSETTO:-0700
TZNAME:PDT
DTSTART:20250309T100000
END:DAYLIGHT
BEGIN:STANDARD
TZOFFSETFROM:-0700
TZOFFSETTO:-0800
TZNAME:PST
DTSTART:20251102T090000
END:STANDARD
BEGIN:DAYLIGHT
TZOFFSETFROM:-0800
TZOFFSETTO:-0700
TZNAME:PDT
DTSTART:20260308T100000
END:DAYLIGHT
BEGIN:STANDARD
TZOFFSETFROM:-0700
TZOFFSETTO:-0800
TZNAME:PST
DTSTART:20261101T090000
END:STANDARD
END:VTIMEZONE
BEGIN:VEVENT
DTSTART;TZID=America/Los_Angeles:20251016T101600
DTEND;TZID=America/Los_Angeles:20251016T120000
DTSTAMP:20260423T191421
CREATED:20251011T033216Z
LAST-MODIFIED:20251014T023435Z
UID:1088-1760609760-1760616000@tdmca.org
SUMMARY:TDM Annual Great Shake Out Event Oct 16 at 10.16 a.m.
DESCRIPTION:The Great ShakeOut earthquake drill is scheduled for October 16 at 10:16 a.m. This drill is a critical opportunity for all of us to practice our earthquake preparedness\, especially in light of the potential risks we face from the Cascadia Subduction Zone.\nWhile it’s important to know where your nearest emergency assembly site is\, this year we encourage everyone to take the extra step and actually go to your nearest assembly site as part of the drill.
URL:https://tdmca.org/event/tdm-annual-great-shake-out-event-oct-16-at-10-16-a-m/
CATEGORIES:Events
END:VEVENT
END:VCALENDAR