BEGIN:VCALENDAR
VERSION:2.0
PRODID:-//Tierra Del Mar Community Association - ECPv6.15.20//NONSGML v1.0//EN
CALSCALE:GREGORIAN
METHOD:PUBLISH
X-ORIGINAL-URL:https://tdmca.org
X-WR-CALDESC:Events for Tierra Del Mar Community Association
REFRESH-INTERVAL;VALUE=DURATION:PT1H
X-Robots-Tag:noindex
X-PUBLISHED-TTL:PT1H
BEGIN:VTIMEZONE
TZID:America/Los_Angeles
BEGIN:DAYLIGHT
TZOFFSETFROM:-0800
TZOFFSETTO:-0700
TZNAME:PDT
DTSTART:20240310T100000
END:DAYLIGHT
BEGIN:STANDARD
TZOFFSETFROM:-0700
TZOFFSETTO:-0800
TZNAME:PST
DTSTART:20241103T090000
END:STANDARD
BEGIN:DAYLIGHT
TZOFFSETFROM:-0800
TZOFFSETTO:-0700
TZNAME:PDT
DTSTART:20250309T100000
END:DAYLIGHT
BEGIN:STANDARD
TZOFFSETFROM:-0700
TZOFFSETTO:-0800
TZNAME:PST
DTSTART:20251102T090000
END:STANDARD
BEGIN:DAYLIGHT
TZOFFSETFROM:-0800
TZOFFSETTO:-0700
TZNAME:PDT
DTSTART:20260308T100000
END:DAYLIGHT
BEGIN:STANDARD
TZOFFSETFROM:-0700
TZOFFSETTO:-0800
TZNAME:PST
DTSTART:20261101T090000
END:STANDARD
END:VTIMEZONE
BEGIN:VEVENT
DTSTART;TZID=America/Los_Angeles:20250817T100000
DTEND;TZID=America/Los_Angeles:20250817T130000
DTSTAMP:20260423T223851
CREATED:20250808T214103Z
LAST-MODIFIED:20250808T214156Z
UID:1059-1755424800-1755435600@tdmca.org
SUMMARY:Free Snowy Plover Bird Event at Sitka Sedge State Park
DESCRIPTION:Join us at Sitka Sedge to spot the only avian species to exclusively nest directly on the PNW sand dunes! South Sand Lake Spit is a historic nesting site for this threatened shorebird and one of five Snowy Plover Management Areas on Oregon’s north coast. Cara Gates\, Bird Alliance of Oregon’s Coastal Community Science Biologist\, will guide plover-spotting on the beach and share about this bird’s breeding biology\, habitat\, and conservation story. \n\nhttps://www.eventbrite.com/e/summer-plover-spotting-tickets-1554763723149 \n\n 
URL:https://tdmca.org/event/free-snowy-plover-bird-event-at-sitka-sedge-state-park/
CATEGORIES:Events
END:VEVENT
END:VCALENDAR