BEGIN:VCALENDAR
VERSION:2.0
PRODID:-//Tierra Del Mar Community Association - ECPv6.15.20//NONSGML v1.0//EN
CALSCALE:GREGORIAN
METHOD:PUBLISH
X-ORIGINAL-URL:https://tdmca.org
X-WR-CALDESC:Events for Tierra Del Mar Community Association
REFRESH-INTERVAL;VALUE=DURATION:PT1H
X-Robots-Tag:noindex
X-PUBLISHED-TTL:PT1H
BEGIN:VTIMEZONE
TZID:America/Los_Angeles
BEGIN:DAYLIGHT
TZOFFSETFROM:-0800
TZOFFSETTO:-0700
TZNAME:PDT
DTSTART:20220313T100000
END:DAYLIGHT
BEGIN:STANDARD
TZOFFSETFROM:-0700
TZOFFSETTO:-0800
TZNAME:PST
DTSTART:20221106T090000
END:STANDARD
BEGIN:DAYLIGHT
TZOFFSETFROM:-0800
TZOFFSETTO:-0700
TZNAME:PDT
DTSTART:20230312T100000
END:DAYLIGHT
BEGIN:STANDARD
TZOFFSETFROM:-0700
TZOFFSETTO:-0800
TZNAME:PST
DTSTART:20231105T090000
END:STANDARD
BEGIN:DAYLIGHT
TZOFFSETFROM:-0800
TZOFFSETTO:-0700
TZNAME:PDT
DTSTART:20240310T100000
END:DAYLIGHT
BEGIN:STANDARD
TZOFFSETFROM:-0700
TZOFFSETTO:-0800
TZNAME:PST
DTSTART:20241103T090000
END:STANDARD
END:VTIMEZONE
BEGIN:VEVENT
DTSTART;TZID=America/Los_Angeles:20230527T113000
DTEND;TZID=America/Los_Angeles:20230527T123000
DTSTAMP:20260425T202129
CREATED:20230226T200708Z
LAST-MODIFIED:20230226T201736Z
UID:619-1685187000-1685190600@tdmca.org
SUMMARY:Tales of Tierra Del Mar Book Signing
DESCRIPTION:In collaboration with the Tillamook County Historical Society\, TDMCA will be hosting a “Tales of Tierra Del Mar” book release and signing event on \nSaturday\, May 27\, 2023 starting at 11:30 a.m. The new book will be available for purchase and author\, Diana Sears\, will be available to sign copies. \nWe hope you can join us for this exciting event. Our regular TDMCA annual meeting will follow the book release event.
URL:https://tdmca.org/event/tales-of-tierra-del-mar-book-signing/
CATEGORIES:Events
END:VEVENT
BEGIN:VEVENT
DTSTART;TZID=America/Los_Angeles:20230527T130000
DTEND;TZID=America/Los_Angeles:20230527T143000
DTSTAMP:20260425T202129
CREATED:20230226T201609Z
LAST-MODIFIED:20230226T201716Z
UID:623-1685192400-1685197800@tdmca.org
SUMMARY:TDMCA Annual Community Meeting
DESCRIPTION:Join us for our annual TDMCA community meeting on Saturday\, May 27\, 2023 at 1:00p.m. at our community hall on Bilyeu Ave. Meeting agenda and more details to follow.
URL:https://tdmca.org/event/tdmca-annual-community-meeting/
CATEGORIES:Meetings
END:VEVENT
END:VCALENDAR