BEGIN:VCALENDAR
VERSION:2.0
PRODID:-//Tierra Del Mar Community Association - ECPv6.15.20//NONSGML v1.0//EN
CALSCALE:GREGORIAN
METHOD:PUBLISH
X-WR-CALNAME:Tierra Del Mar Community Association
X-ORIGINAL-URL:https://tdmca.org
X-WR-CALDESC:Events for Tierra Del Mar Community Association
REFRESH-INTERVAL;VALUE=DURATION:PT1H
X-Robots-Tag:noindex
X-PUBLISHED-TTL:PT1H
BEGIN:VTIMEZONE
TZID:America/Los_Angeles
BEGIN:DAYLIGHT
TZOFFSETFROM:-0800
TZOFFSETTO:-0700
TZNAME:PDT
DTSTART:20220313T100000
END:DAYLIGHT
BEGIN:STANDARD
TZOFFSETFROM:-0700
TZOFFSETTO:-0800
TZNAME:PST
DTSTART:20221106T090000
END:STANDARD
BEGIN:DAYLIGHT
TZOFFSETFROM:-0800
TZOFFSETTO:-0700
TZNAME:PDT
DTSTART:20230312T100000
END:DAYLIGHT
BEGIN:STANDARD
TZOFFSETFROM:-0700
TZOFFSETTO:-0800
TZNAME:PST
DTSTART:20231105T090000
END:STANDARD
BEGIN:DAYLIGHT
TZOFFSETFROM:-0800
TZOFFSETTO:-0700
TZNAME:PDT
DTSTART:20240310T100000
END:DAYLIGHT
BEGIN:STANDARD
TZOFFSETFROM:-0700
TZOFFSETTO:-0800
TZNAME:PST
DTSTART:20241103T090000
END:STANDARD
END:VTIMEZONE
BEGIN:VEVENT
DTSTART;TZID=America/Los_Angeles:20230415T130000
DTEND;TZID=America/Los_Angeles:20230415T143000
DTSTAMP:20260425T213439
CREATED:20230415T013831Z
LAST-MODIFIED:20230415T020021Z
UID:697-1681563600-1681569000@tdmca.org
SUMMARY:Beltz Dike/Sitka Sedge Project Meeting
DESCRIPTION:Beltz Dike/Sitka Sedge Tidal Wetlands Project Update.\nTillamook Estuaries Partnership (TEP) and State Parks are holding another meeting to share project updates for the Beltz dike relocation and restoration project. Meeting will be held at the Kiawanda Community Center in Pacific City on Saturday April 15\, 2023 at 1:00p.m. \nTopics discussed will include staffing changes\, monitoring instrumentation deployed\, funding opportunities\, timelines for next steps\, and  Q&A time. You can also join the meeting remotely and ask questions via the Zoom link below. \nhttps://us02web.zoom.us/j/89153019582?pwd=czdvanQzM1BPZFh2L0tDMVBBWkRpQT09\n  \nIf you would like to be added to the email list for this project\, please contact TEP Habitat Restoration Project Manager\, Conrad Ely: conrad@tbnep.org
URL:https://tdmca.org/event/beltz-dike-sitka-sedge-project-meeting/
CATEGORIES:Events
END:VEVENT
END:VCALENDAR